BEGIN:VCALENDAR
VERSION:2.0
PRODID:-//https://carerkafe.org.au///NONSGML kigkonsult.se iCalcreator 2.10.15//
METHOD:PUBLISH
BEGIN:VEVENT
UID:20190301T214218AEDT-6074VRgivb@https://carerkafe.org.au/
DTSTAMP:20190301T104218Z
DESCRIPTION:&gt\;&gt\;Register Here&lt\;&lt\;\nHow to be an Emotion Coach -
  just another string in your bow.  \nLearn how to recognise\, understand a
 nd respond to children’s emotions in an accepting and supportive manner.\n
 This approach helps children and young people to understand and manage the
 ir emotions and to use emotional awareness as a guide to solving their pro
 blems\, dealing with life’s frustrations and regulating their feelings.\nP
 resented by: Emotionwise (Joanie Bartolo)\nHosted by: Anglicare\n\n\n\n ht
 tps://carerkafe.org.au/training/calendar-view/event/389-emotional-intellig
 ence-and-the-importance-of-emotion-coaching-for-kids-in-care-yarraville
DTSTART:20190618T080000Z
DTEND:20190618T110000Z
LOCATION:Anglicare (Yarraville) (41 Somerville Rd\, Yarraville VIC 3013\, A
 ustralia)
SUMMARY:Emotional Intelligence and the Importance of Emotion Coaching for K
 ids in Care (Yarraville)
URL:https://carerkafe.org.au/training/calendar-view/event/389-emotional-int
 elligence-and-the-importance-of-emotion-coaching-for-kids-in-care-yarravil
 le
END:VEVENT
END:VCALENDAR
