BEGIN:VCALENDAR
VERSION:2.0
PRODID:-//https://carerkafe.org.au///NONSGML kigkonsult.se iCalcreator 2.10.15//
METHOD:PUBLISH
BEGIN:VEVENT
UID:20190301T215103AEDT-2358BSrspO@https://carerkafe.org.au/
DTSTAMP:20190301T105103Z
DESCRIPTION:&gt\;&gt\;Register Here&lt\;&lt\;\nWho is Nikara?\nFollow the s
 tory of Nikara and her non-Aboriginal foster parents as they learn how to 
 provide the right support\, respect her identity\, and keep her safe and c
 onnected to her family\, culture and community.\nThis program provides bot
 h Aboriginal and non-Aboriginal Carers with the knowledge to care and supp
 ort Aboriginal children.\nPresented by: VACCA\n\nHosted by: Anglicare\n\n 
 https://carerkafe.org.au/training/calendar-view/event/390-nikara-s-journey
 -2-days-preston
DTSTART:20190805T233000Z
DTEND:20190807T060000Z
LOCATION:Anglicare (Preston) (42 Mary St\, Preston VIC 3072\, Australia)
SUMMARY:Nikara's Journey - 2 Days (Preston)
URL:https://carerkafe.org.au/training/calendar-view/event/390-nikara-s-jour
 ney-2-days-preston
END:VEVENT
END:VCALENDAR
