BEGIN:VCALENDAR
VERSION:2.0
PRODID:-//https://carerkafe.org.au///NONSGML kigkonsult.se iCalcreator 2.10.15//
METHOD:PUBLISH
BEGIN:VEVENT
UID:20190301T214746AEDT-1866aIISxj@https://carerkafe.org.au/
DTSTAMP:20190301T104746Z
DESCRIPTION:&gt\;&gt\;Register Here&lt\;&lt\;\nMental Illness will most lik
 ely affect us all at some point in our life - directly or indirectly.\nBe 
 on the front foot to know the symptoms\, causes and treatments for some of
  the major mental illnesses.\nCarers will:\n\nlearn how to spot warning si
 gns of mental health problems and respond appropriately\nunderstand mental
  health crisis situations: suicidal thoughts and behaviors\, panic attacks
 \, severe effects of drug or alcohol use\, psychotic states\, aggressive b
 ehaviours\nlearn how to provide appropriate help (mental health first aid)
  and when and where to seek professional help.\n\n&nbsp\;\nPresented by: A
 ustralian Childhood Trauma Group\n\nHosted by: Mackillop\n\n https://carer
 kafe.org.au/training/calendar-view/event/392-an-introduction-to-mental-hea
 lth-warrnambool
DTSTART:20190901T230000Z
DTEND:20190902T050000Z
LOCATION:Flying Horse Warrnambool (10691 Princes Hwy\, Warrnambool VIC 3280
 \, Australia)
SUMMARY:An Introduction to Mental Health (Warrnambool)
URL:https://carerkafe.org.au/training/calendar-view/event/392-an-introducti
 on-to-mental-health-warrnambool
END:VEVENT
END:VCALENDAR
