BEGIN:VCALENDAR
VERSION:2.0
PRODID:-//https://carerkafe.org.au///NONSGML kigkonsult.se iCalcreator 2.10.15//
METHOD:PUBLISH
BEGIN:VEVENT
UID:20190301T214807AEDT-9663B8f9hu@https://carerkafe.org.au/
DTSTAMP:20190301T104807Z
DESCRIPTION:&gt\;&gt\;Register Here&lt\;&lt\;\nGood Grief! It’s a personal 
 journey that takes time\nWe all experience grief when we lose someone or s
 omething important to us. Children and young people experience grief as a 
 result of being separated from family\, carers\, pets\, school friends and
  possessions.\nCarers will explore the process and stages of grief and los
 s\, and how to support children and young people navigate their confusing 
 feelings\, thoughts and behaviors associated with grief.\n Significantly\,
  Carers can experience grief at the end of a placement and need to acknowl
 edge their grief and understand how it can affect their ability to support
  children and young people.\nPresented: Berry Street\n\nHosted by: Mackill
 op\n https://carerkafe.org.au/training/calendar-view/event/393-life-after-
 loss-warrnambool
DTSTART:20191016T224500Z
DTEND:20191017T034500Z
LOCATION:Flying Horse Warrnambool (10691 Princes Hwy\, Warrnambool VIC 3280
 \, Australia)
SUMMARY:Life After Loss (Warrnambool)
URL:https://carerkafe.org.au/training/calendar-view/event/393-life-after-lo
 ss-warrnambool
END:VEVENT
END:VCALENDAR
