BEGIN:VCALENDAR
VERSION:2.0
PRODID:-//https://carerkafe.org.au///NONSGML kigkonsult.se iCalcreator 2.10.15//
METHOD:PUBLISH
BEGIN:VEVENT
UID:20190301T212639AEDT-0415Ekxu9r@https://carerkafe.org.au/
DTSTAMP:20190301T102639Z
DESCRIPTION:&gt\;&gt\;Register Here&lt\;&lt\;\nHow to be the best advocate 
 for the child in my care\nChildren and young people often need advocates\,
  and Carers are well placed to do this.\nIncrease your understanding about
 :\n\nwhat it means to be an advocate\nhow to be the best advocate for chil
 dren and young people\nhow to engage others to be your advocate\nhow to na
 vigate the home based care system\, Child Protection\, and the Children’s 
 Court\nvarious communication styles and how to feel more confident when ha
 ving difficult conversations\, especially when communicating with a divers
 e range of people.\n\nPresented by: Berry Street\n\nHosted by: Berry Stree
 t\n https://carerkafe.org.au/training/calendar-view/event/395-being-heard-
 communication-in-the-care-system-eaglemont
DTSTART:20190311T224500Z
DTEND:20190312T034500Z
LOCATION:Berry Street (Eaglemont) (677 The Boulevard Eaglemont)
SUMMARY:Being Heard: Communication in the Care System (Eaglemont)
URL:https://carerkafe.org.au/training/calendar-view/event/395-being-heard-c
 ommunication-in-the-care-system-eaglemont
END:VEVENT
END:VCALENDAR
