BEGIN:VCALENDAR
VERSION:2.0
PRODID:-//https://carerkafe.org.au///NONSGML kigkonsult.se iCalcreator 2.10.15//
METHOD:PUBLISH
BEGIN:VEVENT
UID:20190301T214148AEDT-8014nGPMfT@https://carerkafe.org.au/
DTSTAMP:20190301T104148Z
DESCRIPTION:&gt\;&gt\;Register Here&lt\;&lt\;\nHow children can be part of 
 two families and feel ok\nMany children and young people who live away fro
 m their biological families are able to ‘catch-up’ with them throughout th
 e year.\nCarers have an important role in supporting children and young pe
 ople with family access.&nbsp\;\nThis session will provide strategies to p
 repare and assist children and young people - so they can be part of 2 fam
 ilies and feel ok.\nPresented by: Australian Childhood Trauma Group\n\nHos
 ted by: Upper Murray Family Care\n\n https://carerkafe.org.au/training/cal
 endar-view/event/405-divided-loyalties-wodonga
DTSTART:20190510T230000Z
DTEND:20190511T050000Z
LOCATION:Upper Murray Family Care (27 Stanley St\, Wodonga VIC 3690\, Austr
 alia)
SUMMARY:Divided Loyalties (Wodonga)
URL:https://carerkafe.org.au/training/calendar-view/event/405-divided-loyal
 ties-wodonga
END:VEVENT
END:VCALENDAR
