BEGIN:VCALENDAR
VERSION:2.0
PRODID:-//https://carerkafe.org.au///NONSGML kigkonsult.se iCalcreator 2.10.15//
METHOD:PUBLISH
BEGIN:VEVENT
UID:20190301T214705AEDT-4401jPwGGL@https://carerkafe.org.au/
DTSTAMP:20190301T104705Z
DESCRIPTION:&gt\;&gt\;Register Here&lt\;&lt\;\nThis session is focused on c
 aring for children and young people who have been sexually abused or have 
 sexual behaviour problems. Learn to understand the physical and behavioura
 l indicators of sexual abuse and normal vs problematic sexual behaviour in
  children and young people. Learn how to respond to disclosures of sexual 
 abuse and to problematic sexual behaviour.\nCarers will learn:\n\nFacts an
 d myths about sexual abuse\nLikelihood of children in care affected by abu
 se\nSecondary abuse and signs of abuse and trauma\nWhy children may displa
 y harmful sexual behaviours\nHow to respond to problem sexual behaviours\n
 How and why children disclose sexual abuse\nResponding to disclosures of s
 exual abuse\nAssisting a child to stay safe\n\nPresented by: Gatehouse Cen
 tre\nHosted by: Upper Murray Family Care\n\n https://carerkafe.org.au/trai
 ning/calendar-view/event/406-child-sexual-abuse-sexualised-behaviours-and-
 trauma-wodonga
DTSTART:20190730T000000Z
DTEND:20190730T073000Z
LOCATION:Upper Murray Family Care (27 Stanley St\, Wodonga VIC 3690\, Austr
 alia)
SUMMARY:Child Sexual Abuse\, Sexualised Behaviours and Trauma (Wodonga)
URL:https://carerkafe.org.au/training/calendar-view/event/406-child-sexual-
 abuse-sexualised-behaviours-and-trauma-wodonga
END:VEVENT
END:VCALENDAR
