BEGIN:VCALENDAR
VERSION:2.0
PRODID:-//https://carerkafe.org.au///NONSGML kigkonsult.se iCalcreator 2.10.15//
METHOD:PUBLISH
BEGIN:VEVENT
UID:20190301T213638AEDT-0327V8HKlL@https://carerkafe.org.au/
DTSTAMP:20190301T103638Z
DESCRIPTION:&gt\;&gt\;Register Here&lt\;&lt\;\nFeeling out of your depth wi
 th aggressive behavior?  \nThis training will provide carers with knowledg
 e of how to prevent aggressive and violent situations\, and how to respond
  to them if they occur.\n Carers will:\n\ndiscover the key aspects of asse
 ssing aggressive behavior\nlearn how to prevent and respond to aggressive 
 and violent situations\nlearn practical strategies to manage aggressive in
 cidents\n\nPresented by: Australian Childhood Trauma Group\n\nHosted by: B
 arwon Child\, Youth and Family\n\n\n https://carerkafe.org.au/training/cal
 endar-view/event/407-regulating-aggressive-and-violent-emotions-2-days-gee
 long
DTSTART:20190331T220000Z
DTEND:20190402T040000Z
LOCATION:Barwon Child\, Youth & Family (222 Malop St\, Geelong VIC 3220\, A
 ustralia)
SUMMARY:Regulating Aggressive and Violent Emotions (2 days) (Geelong)
URL:https://carerkafe.org.au/training/calendar-view/event/407-regulating-ag
 gressive-and-violent-emotions-2-days-geelong
END:VEVENT
END:VCALENDAR
