BEGIN:VCALENDAR
VERSION:2.0
PRODID:-//https://carerkafe.org.au///NONSGML kigkonsult.se iCalcreator 2.10.15//
METHOD:PUBLISH
BEGIN:VEVENT
UID:20190301T212643AEDT-2536BVMmec@https://carerkafe.org.au/
DTSTAMP:20190301T102643Z
DESCRIPTION:&gt\;&gt\;Register Here&lt\;&lt\;\nHow children can be part of 
 two families and feel ok\nMany children and young people who live away fro
 m their biological families are able to ‘catch-up’ with them throughout th
 e year.\nCarers have an important role in supporting children and young pe
 ople with family access.&nbsp\;\nThis session will provide strategies to p
 repare and assist children and young people - so they can be part of 2 fam
 ilies and feel ok.\nPresented by: Australian Childhood Trauma Group\n\nHos
 ted by: Mackillop\n\n\n\n https://carerkafe.org.au/training/calendar-view/
 event/409-divided-loyalties-geelong
DTSTART:20190313T220000Z
DTEND:20190314T040000Z
LOCATION:MacKillop Family Services (Geelong) (9 Helen St\, Rippleside VIC 3
 215\, Australia)
SUMMARY:Divided Loyalties (Geelong)
URL:https://carerkafe.org.au/training/calendar-view/event/409-divided-loyal
 ties-geelong
END:VEVENT
END:VCALENDAR
