BEGIN:VCALENDAR
VERSION:2.0
PRODID:-//https://carerkafe.org.au///NONSGML kigkonsult.se iCalcreator 2.10.15//
METHOD:PUBLISH
BEGIN:VEVENT
UID:20190301T214158AEDT-4933A98ktv@https://carerkafe.org.au/
DTSTAMP:20190301T104158Z
DESCRIPTION:&gt\;&gt\;Register Here&lt\;&lt\;\nWhere behaviour problems exi
 st\, it is because the child has an underlying need that they are attempti
 ng to meet in the best way they know how. With Positive Behaviour Support 
 (PBS)\, we use scientifically validated methods to try to understand what 
 that unmet need is\, and to have that need met so that there is literally 
 no need for the individual to resort to behaviours that cause a problem to
  themselves or others around them.\nMeeting the unmet need may involve cha
 nging the individual’s environment\, teaching the individual new skills an
 d/or changing the supports we provide to the individual. The end result is
  that the person’s quality of life has improved\, the behaviour problems r
 educe and therefore the need to use more restrictive or punishment driven 
 strategies is eliminated.\nAs the developmental level and age of a child i
 mpacts significantly the behavioural presentation and support needs of a y
 oung person. this program focuses specifically on understanding and respon
 ding to behaviour in children 9 - 18 years of age. There will be a focus o
 n how child and adolescent development for this age group can influence be
 haviour\, what is typical in this age cohort\, and the ways to understand 
 and respond appropriately to meet the needs of children 9 - 18 years of ag
 e.\nPresented by: Lancaster Consulting\n\nHosted by: Uniting\n\n https://c
 arerkafe.org.au/training/calendar-view/event/413-why-do-they-do-that-under
 standing-and-responding-to-behaviour-in-young-children-9-18-years-of-age-2
 -days-dandenong
DTSTART:20190520T233000Z
DTEND:20190522T043000Z
LOCATION:Uniting Wesley\, Dandenong (280 Thomas St\, Dandenong VIC 3175\, A
 ustralia)
SUMMARY:Why do they do that? –Understanding and responding to behaviour in 
 young children 9 – 18 years of age - 2 days (Dandenong)
URL:https://carerkafe.org.au/training/calendar-view/event/413-why-do-they-d
 o-that-understanding-and-responding-to-behaviour-in-young-children-9-18-ye
 ars-of-age-2-days-dandenong
END:VEVENT
END:VCALENDAR
