BEGIN:VCALENDAR
VERSION:2.0
PRODID:-//https://carerkafe.org.au///NONSGML kigkonsult.se iCalcreator 2.10.15//
METHOD:PUBLISH
BEGIN:VEVENT
UID:20190301T214247AEDT-4948cEXbFW@https://carerkafe.org.au/
DTSTAMP:20190301T104247Z
DESCRIPTION:&gt\;&gt\;Register Here&lt\;&lt\;\nAre you looking for a more h
 ands on session\, where you can share your Caring role in a supportive env
 ironment?\nThis session provides the opportunity for Carers to share the c
 hallenges\, joys and unique experiences of caring in order to expand the w
 ays to enhance relationships with children and young people and respond to
  their needs.\n This evidence-based program builds on the strengths of Car
 ers by co-designing strategies to best suit their needs.\nPresented by: An
 glicare\n\nHosted by: Centacare\n https://carerkafe.org.au/training/calend
 ar-view/event/418-carers-building-solutions-mildura
DTSTART:20190724T230000Z
DTEND:20190725T063000Z
LOCATION:Centacare (136 Lime Ave\, Mildura VIC 3500\, Australia)
SUMMARY:Carers Building Solutions (Mildura)
URL:https://carerkafe.org.au/training/calendar-view/event/418-carers-buildi
 ng-solutions-mildura
END:VEVENT
END:VCALENDAR
