BEGIN:VCALENDAR
VERSION:2.0
PRODID:-//https://carerkafe.org.au///NONSGML kigkonsult.se iCalcreator 2.10.15//
METHOD:PUBLISH
BEGIN:VEVENT
UID:20190301T214203AEDT-1763UgDe4R@https://carerkafe.org.au/
DTSTAMP:20190301T104203Z
DESCRIPTION:&gt\;&gt\;Register Here&lt\;&lt\;\nWant to make learning\, and 
 homework\, fun?!\n This evidence based approach to learning is mapped to c
 urrent curriculum and includes proven approaches to engaging with children
  to support their literacy and numeracy in a FUN and engaging manner. YES\
 , the games really are helping learn! (Also helps Carers understand the te
 aching methods used today!).\nManuals and activity kits are provided for u
 se in the home environment to support learning.\nOngoing support is provid
 ed to Carers with access to additional resources and videos\nPresented by:
  The Pyjama Foundation\n\nHosted by: Anglicare\n\n https://carerkafe.org.a
 u/training/calendar-view/event/419-love-of-learning-broadmeadows
DTSTART:20190522T233000Z
DTEND:20190523T050000Z
LOCATION:Hume Global Learning Centre (1093 Pascoe Vale Rd\, Broadmeadows VI
 C 3047\, Australia)
SUMMARY:Love of Learning (Broadmeadows)
URL:https://carerkafe.org.au/training/calendar-view/event/419-love-of-learn
 ing-broadmeadows
END:VEVENT
END:VCALENDAR
