BEGIN:VCALENDAR
VERSION:2.0
PRODID:-//https://carerkafe.org.au///NONSGML kigkonsult.se iCalcreator 2.10.15//
METHOD:PUBLISH
BEGIN:VEVENT
UID:20190301T214332AEDT-7606nWUesA@https://carerkafe.org.au/
DTSTAMP:20190301T104332Z
DESCRIPTION:&gt\;&gt\;Register Here&lt\;&lt\;\nWant to make learning\, and 
 homework\, fun?!\n This evidence based approach to learning is mapped to c
 urrent curriculum and includes proven approaches to engaging with children
  to support their literacy and numeracy in a FUN and engaging manner. YES\
 , the games really are helping learn! (Also helps Carers understand the te
 aching methods used today!).\nManuals and activity kits are provided for u
 se in the home environment to support learning.\nOngoing support is provid
 ed to Carers with access to additional resources and videos\nPresented by:
  The Pyjama Foundation\n\nHosted by: Quantum Support Services\n\n\n https:
 //carerkafe.org.au/training/calendar-view/event/421-love-of-learning-trara
 lgon
DTSTART:20190906T233000Z
DTEND:20190907T050000Z
LOCATION:Traralgon RSL (116/109 Grey St\, Traralgon VIC 3844)
SUMMARY:Love of Learning (Traralgon)
URL:https://carerkafe.org.au/training/calendar-view/event/421-love-of-learn
 ing-traralgon
END:VEVENT
END:VCALENDAR
