BEGIN:VCALENDAR
VERSION:2.0
PRODID:-//https://carerkafe.org.au///NONSGML kigkonsult.se iCalcreator 2.10.15//
METHOD:PUBLISH
BEGIN:VEVENT
UID:20190301T213658AEDT-3046vmRT05@https://carerkafe.org.au/
DTSTAMP:20190301T103658Z
DESCRIPTION:&gt\;&gt\;Register Here&lt\;&lt\;\nHow can I reach the young pe
 rson in crisis?\nThis session will engage carers in the topic of self-harm
  - non-suicidal self-injury and explain what it is\, why it happens and wh
 at carers can do. Garry King has a background as a teacher\, youth worker 
 and counsellor and will teach carers\;\n\nWho is most at risk?\nwhat to lo
 ok for\, signs of self harm\nstrategies to reduce self harm\nprevention st
 rategies\nprotective factors to implement\, including mindfulness\nrisk fa
 ctors\nwhat to say\, what to do\nwho to link with and when\n\nPresented by
 : Agenda 2001\nHosted by: Brophy\n\n\n https://carerkafe.org.au/training/c
 alendar-view/event/423-caring-for-young-people-who-self-harm-warrnambool
DTSTART:20190401T220000Z
DTEND:20190402T040000Z
LOCATION:Brophy Community Youth Complex (Warrnambool) (210 Timor St\, Warrn
 ambool VIC 3280\, Australia)
SUMMARY:Caring for Young People who Self Harm (Warrnambool)
URL:https://carerkafe.org.au/training/calendar-view/event/423-caring-for-yo
 ung-people-who-self-harm-warrnambool
END:VEVENT
END:VCALENDAR
