BEGIN:VCALENDAR
VERSION:2.0
PRODID:-//https://carerkafe.org.au///NONSGML kigkonsult.se iCalcreator 2.10.15//
METHOD:PUBLISH
BEGIN:VEVENT
UID:20190301T214711AEDT-3086F6jCKC@https://carerkafe.org.au/
DTSTAMP:20190301T104711Z
DESCRIPTION:&gt\;&gt\;Register Here&lt\;&lt\;\nThis session focuses on the 
 intergenerational trauma of family violence and how it impacts children’s 
 and young people’s development and behaviour.\nCarers will learn:\n\nwhat 
 constitutes family violence\, legal definitions\, indicators\, current sta
 tistics\, findings from the Royal Commission\nthe impact of Family Violenc
 e on children and young people from a neurobiological perspective\nchildre
 ns emotional and behavioural responses&nbsp\; following exposure to Family
  Violence\, which may persist even once children are safe\n\nPresented by:
  KidsFirst Training\n\nHosted by: Brophy\n\n https://carerkafe.org.au/trai
 ning/calendar-view/event/424-family-violence-the-real-impact-on-children-w
 arrnambool
DTSTART:20190801T000000Z
DTEND:20190801T040000Z
LOCATION:Brophy Community Youth Complex (Warrnambool) (210 Timor St\, Warrn
 ambool VIC 3280\, Australia)
SUMMARY:Family Violence: The Real Impact on Children (Warrnambool)
URL:https://carerkafe.org.au/training/calendar-view/event/424-family-violen
 ce-the-real-impact-on-children-warrnambool
END:VEVENT
END:VCALENDAR
