BEGIN:VCALENDAR
VERSION:2.0
PRODID:-//https://carerkafe.org.au///NONSGML kigkonsult.se iCalcreator 2.10.15//
METHOD:PUBLISH
BEGIN:VEVENT
UID:20190301T214315AEDT-1397IjNu8L@https://carerkafe.org.au/
DTSTAMP:20190301T104315Z
DESCRIPTION:&gt\;&gt\;Register Here&lt\;&lt\;\nHow to be an Emotion Coach -
  just another string in your bow.  \nLearn how to recognise\, understand a
 nd respond to children’s emotions in an accepting and supportive manner.\n
 This approach helps children and young people to understand and manage the
 ir emotions and to use emotional awareness as a guide to solving their pro
 blems\, dealing with life’s frustrations and regulating their feelings.\nP
 resented by: Emotion Wise (Joanie Bartolo)\nHosted by: Barwon Child\, Yout
 h and Family\n\n\n\n https://carerkafe.org.au/training/calendar-view/event
 /428-emotional-intelligence-and-the-importance-of-emotion-coaching-for-kid
 s-in-care-geelong
DTSTART:20190822T023000Z
DTEND:20190822T050000Z
LOCATION:Barwon Child\, Youth & Family (222 Malop St\, Geelong VIC 3220\, A
 ustralia)
SUMMARY:Emotional Intelligence and the Importance of Emotion Coaching for K
 ids in Care (Geelong)
URL:https://carerkafe.org.au/training/calendar-view/event/428-emotional-int
 elligence-and-the-importance-of-emotion-coaching-for-kids-in-care-geelong
END:VEVENT
END:VCALENDAR
