BEGIN:VCALENDAR
VERSION:2.0
PRODID:-//https://carerkafe.org.au///NONSGML kigkonsult.se iCalcreator 2.10.15//
METHOD:PUBLISH
BEGIN:VEVENT
UID:20190301T213723AEDT-63354llA6r@https://carerkafe.org.au/
DTSTAMP:20190301T103723Z
DESCRIPTION:&gt\;&gt\;Register Here&lt\;&lt\;\nWho is Nikara?\nFollow the s
 tory of Nikara and her non-Aboriginal foster parents as they learn how to 
 provide the right support\, respect her identity\, and keep her safe and c
 onnected to her family\, culture and community.\nThis program provides bot
 h Aboriginal and non-Aboriginal Carers with the knowledge to care and supp
 ort Aboriginal children.\nPresented by: VACCA\n\nHosted by: Berry Street\n
 \n https://carerkafe.org.au/training/calendar-view/event/430-nikara-s-jour
 ney-2-days-shepparton
DTSTART:20190402T223000Z
DTEND:20190404T050000Z
LOCATION:Greater Shepparton Business Centre (70 New Dookie Rd\, Shepparton 
 VIC 3630\, Australia)
SUMMARY:Nikara's Journey - 2 Days (Shepparton)
URL:https://carerkafe.org.au/training/calendar-view/event/430-nikara-s-jour
 ney-2-days-shepparton
END:VEVENT
END:VCALENDAR
