BEGIN:VCALENDAR
VERSION:2.0
PRODID:-//https://carerkafe.org.au///NONSGML kigkonsult.se iCalcreator 2.10.15//
METHOD:PUBLISH
BEGIN:VEVENT
UID:20190301T214140AEDT-0579gNV81R@https://carerkafe.org.au/
DTSTAMP:20190301T104140Z
DESCRIPTION:&gt\;&gt\;Register Here&lt\;&lt\;\nThis workshop explores the i
 mportance of being in ‘thinking mind’ mode when the children you care for 
 are struggling.\nIn doing so\, Carers can accurately assess what is happen
 ing in the internal world of the child or young person at that moment\, an
 d respond in ways that will assist to reduce trauma and feelings of low se
 lf esteem.\nPractical interventions will be discussed and demonstrated.\nP
 resented by: Australian Childhood Trauma Group\n\nHosted by: Berry Street
 \n\n\n https://carerkafe.org.au/training/calendar-view/event/431-thinking-
 mind-reptilian-brain-shepparton
DTSTART:20190509T230000Z
DTEND:20190510T050000Z
LOCATION:North Shepparton Community and Learning Centre Inc (10/14 Parkside
  Dr\, Shepparton VIC 3630\, Australia)
SUMMARY:Thinking Mind\, Reptilian Brain (Shepparton)
URL:https://carerkafe.org.au/training/calendar-view/event/431-thinking-mind
 -reptilian-brain-shepparton
END:VEVENT
END:VCALENDAR
