BEGIN:VCALENDAR
VERSION:2.0
PRODID:-//https://carerkafe.org.au///NONSGML kigkonsult.se iCalcreator 2.10.15//
METHOD:PUBLISH
BEGIN:VEVENT
UID:20190301T214759AEDT-4181VlUAHf@https://carerkafe.org.au/
DTSTAMP:20190301T104759Z
DESCRIPTION:&gt\;&gt\;Register Here&lt\;&lt\;\nMental Illness will most lik
 ely affect us all at some point in our life - directly or indirectly.\nBe 
 on the front foot to know the symptoms\, causes and treatments for some of
  the major mental illnesses.\nCarers will:\n\nlearn how to spot warning si
 gns of mental health problems and respond appropriately\nunderstand mental
  health crisis situations: suicidal thoughts and behaviors\, panic attacks
 \, severe effects of drug or alcohol use\, psychotic states\, aggressive b
 ehaviours\nlearn how to provide appropriate help (mental health first aid)
  and when and where to seek professional help.\n\n&nbsp\;\nPresented by: A
 ustralian Childhood Trauma Group\n\nHosted by: Berry Street\n\n https://ca
 rerkafe.org.au/training/calendar-view/event/434-an-introduction-to-mental-
 health-shepparton
DTSTART:20190918T080000Z
DTEND:20190918T110000Z
LOCATION:Peppermill Inn (Shepparton) (7900 Goulburn Valley Hwy\, Kialla VIC
  3631\, Australia)
SUMMARY:An Introduction to Mental Health (Shepparton)
URL:https://carerkafe.org.au/training/calendar-view/event/434-an-introducti
 on-to-mental-health-shepparton
END:VEVENT
END:VCALENDAR
