BEGIN:VCALENDAR
VERSION:2.0
PRODID:-//https://carerkafe.org.au///NONSGML kigkonsult.se iCalcreator 2.10.15//
METHOD:PUBLISH
BEGIN:VEVENT
UID:20190301T214251AEDT-56556Su1oJ@https://carerkafe.org.au/
DTSTAMP:20190301T104251Z
DESCRIPTION:&gt\;&gt\;Register Here&lt\;&lt\;\nThis workshop explores the i
 mportance of being in ‘thinking mind’ mode when the children you care for 
 are struggling.\nIn doing so\, Carers can accurately assess what is happen
 ing in the internal world of the child or young person at that moment\, an
 d respond in ways that will assist to reduce trauma and feelings of low se
 lf esteem.\nPractical interventions will be discussed and demonstrated.\nP
 resented by: Australian Childhood Trauma Group\n\nHosted by: Uniting\n\n\n
  https://carerkafe.org.au/training/calendar-view/event/439-thinking-mind-r
 eptilian-brain-horsham
DTSTART:20190724T230000Z
DTEND:20190725T050000Z
LOCATION:Uniting Horsham (185 Baillie St\, Horsham VIC 3400\, Australia)
SUMMARY:Thinking Mind\, Reptilian Brain (Horsham)
URL:https://carerkafe.org.au/training/calendar-view/event/439-thinking-mind
 -reptilian-brain-horsham
END:VEVENT
END:VCALENDAR
