BEGIN:VCALENDAR
VERSION:2.0
PRODID:-//https://carerkafe.org.au///NONSGML kigkonsult.se iCalcreator 2.10.15//
METHOD:PUBLISH
BEGIN:VEVENT
UID:20190301T214346AEDT-1236DI8jd0@https://carerkafe.org.au/
DTSTAMP:20190301T104346Z
DESCRIPTION:&gt\;&gt\;Register Here&lt\;&lt\;\nAre you looking for a more h
 ands on session\, where you can share your Caring role in a supportive env
 ironment?\nThis session provides the opportunity for Carers to share the c
 hallenges\, joys and unique experiences of caring in order to expand the w
 ays to enhance relationships with children and young people and respond to
  their needs.\n This evidence-based program builds on the strengths of Car
 ers by co-designing strategies to best suit their needs.\nPresented by: An
 glicare\n\nHosted by: Uniting\n\n https://carerkafe.org.au/training/calend
 ar-view/event/440-carers-building-solutions-horsham
DTSTART:20190916T233000Z
DTEND:20190917T063000Z
LOCATION:Uniting Horsham (185 Baillie St\, Horsham VIC 3400\, Australia)
SUMMARY:Carers Building Solutions (Horsham)
URL:https://carerkafe.org.au/training/calendar-view/event/440-carers-buildi
 ng-solutions-horsham
END:VEVENT
END:VCALENDAR
